BEGIN:VCALENDAR
VERSION:2.0
PRODID:-//Empower Development
CALSCALE:GREGORIAN
METHOD:PUBLISH
X-WR-CALNAME:Empower Development
X-ORIGINAL-URL:https://empowerdevelopment.co.uk/product/women-with-presence-8/
X-WR-CALDESC:Women with Presence
BEGIN:VTIMEZONE
TZID:Europe/Paris
END:VTIMEZONE
BEGIN:VEVENT
DTSTART;TZID=Europe/Paris:20261124T100000
DTEND;TZID=Europe/Paris:20261125T163000
DTSTAMP:20260421T131131
UID:9950-andrew@empowerdevelopment.co.uk
SUMMARY:Women with Presence
DESCRIPTION:Plus VAT
URL:https://empowerdevelopment.co.uk/product/women-with-presence-8/
LOCATION:
END:VEVENT
END:VCALENDAR
